BEGIN:VCALENDAR
VERSION:2.0
PRODID:-//nudanza.hr - ECPv6.15.14//NONSGML v1.0//EN
CALSCALE:GREGORIAN
METHOD:PUBLISH
X-WR-CALNAME:nudanza.hr
X-ORIGINAL-URL:https://nudanza.hr
X-WR-CALDESC:Događaji za nudanza.hr
REFRESH-INTERVAL;VALUE=DURATION:PT1H
X-Robots-Tag:noindex
X-PUBLISHED-TTL:PT1H
BEGIN:VTIMEZONE
TZID:UTC
BEGIN:STANDARD
TZOFFSETFROM:+0000
TZOFFSETTO:+0000
TZNAME:UTC
DTSTART:20190101T000000
END:STANDARD
END:VTIMEZONE
BEGIN:VEVENT
DTSTART;VALUE=DATE:20200820
DTEND;VALUE=DATE:20200824
DTSTAMP:20260424T153034
CREATED:20181213T120022Z
LAST-MODIFIED:20200709T194729Z
UID:9681-1597881600-1598227199@nudanza.hr
SUMMARY:Jedna svijest - Rogla\, Slovenija
DESCRIPTION:Iskustveni seminar “JEDNA SVIJEST”\nUpaja za novi početak\,\nNLF čitanja za razvoj duhovne empatije\ni ritual “devet zavjeta Zelenoj Boginji” \nRogla\, 20.8. – 23.8.2020.\n(četvrtak navečer do nedjelje u podne) \n  \nČlanak s pozivom i objašnjenjem seminara je na ovom linku: https://www.adriankezele.com/jedna-svijest/ \n  \nČetiri dana na Rogli bit će posvećena iskustvenom istraživanju kombinacija nekih od najsnažnijih tehnika\, a čiji je cilj dovesti praktikanta do izravnog iskustva zajedništva cjelokupnog života i postojanja. \n  \nIskustvene tehnike koje ćemo raditi su sljedeće: \n1. UPAJA – “meditativna” tehnika iz jyotisha\n(zasnovana na programu Rasa tehnika).\nRadit ćemo čak tri različite upaje. Radi se o vrlo snažnim tehnikama posebno “dizajniranim” za ovu priliku. Dio seminara je i učenje Rasa tehnika (četvrtak popodne\, prije službenog početka) za one koji ih ranije nisu naučili. Poželjno je (iako ne i neophodno) ponavljanje instrukcije za one koji Rasa tehnike poznaju od ranije. \n2. NLF čitanja za razvoj duhovne empatije\nNLF (nekonceptualne lingvističke forme) sada su se već utvrdile kao iznimno uspješno sredstvo za iskušavanje “života bez središta” ili stanja jednosti. Slušat ćemo nova\, nikad objavljena NLF čitanja\, usmjerena prema duhovnoj empatiji\, a koja su neizravno povezana s trećom tehnikom “devet zavjeta”. \n3. Ritual “devet zavjeta Zelenoj Boginji”\nRadi se o jednostavnom\, ugodnom ali vrlo moćnom plesno-ritualnom iskustvu zasnovanom na načelima NuDanze. Nije potrebno prethodno znanje NuDanze – sve će se naučiti na radionici. I dok su prethodne dvije tehnike usmjerene prema osobnom vidu života\, ova je usmjerena prema planetu na kojem živimo\, prema “Zelenoj Boginji”. Porijeklo ovog rituala je u neolitskim vremenima\, s našeg je područja i dio je neobjavljenih iskustava povezanih s knjigama “Povratak Boginje” i “Duša Stare Europe”. Devet “zavjeta” su zavjet poštovanja\, zaštite\, davanja\, iskrenosti\, povezanosti\, ljubavi\, služenja\, stvaranja i mira.  \n  \nČekamo vas! \n  \nVaš NuDanza tim. \n  \nZbog Covid-19 situacije\, tečaj može biti otkazan. Potrebna je prilagodljivost od strane organizatora i polaznika. U slučaju otkaza polaznici ne snose nikakve troškove i o tome će biti na vrijeme obaviješteni.
URL:https://nudanza.hr/dogadaj/jednasvijest-rogla/
LOCATION:Rogla\, Rogla 1\, Zreče\, 3214\, Slovenia
CATEGORIES:Radionice
ATTACH;FMTTYPE=image/jpeg:https://nudanza.hr/wp-content/uploads/2018/11/deepness-header-bg.jpg
END:VEVENT
END:VCALENDAR