BEGIN:VCALENDAR
VERSION:2.0
PRODID:-//nudanza.hr - ECPv6.15.14//NONSGML v1.0//EN
CALSCALE:GREGORIAN
METHOD:PUBLISH
X-ORIGINAL-URL:https://nudanza.hr/sl/
X-WR-CALDESC:Dogodki za nudanza.hr
REFRESH-INTERVAL;VALUE=DURATION:PT1H
X-Robots-Tag:noindex
X-PUBLISHED-TTL:PT1H
BEGIN:VTIMEZONE
TZID:UTC
BEGIN:STANDARD
TZOFFSETFROM:+0000
TZOFFSETTO:+0000
TZNAME:UTC
DTSTART:20250101T000000
END:STANDARD
END:VTIMEZONE
BEGIN:VEVENT
DTSTART;VALUE=DATE:20260204
DTEND;VALUE=DATE:20260209
DTSTAMP:20260419T130706
CREATED:20230122T105743Z
LAST-MODIFIED:20250105T195229Z
UID:10335-1770163200-1770595199@nudanza.hr
SUMMARY:Deepness - Podčetrtek\, Terme Olimia
DESCRIPTION:Bili ste na začetni delavnici NuDanza Starter (ali na eni od nekdanjih delavnic NeoDanca) in poznate tisti občutek sladkosti\, energije\, umirjene ekstaze\, blaženosti in povezanosti; občutek\, ki se tako nepogrešljivo in hitro pojavi\, ko plešete. Morda ste prišli tudi na izplesovanja\, ki smo jih lani organizirali večinoma v Ljubljani\, nekaj pa tudi v Zagrebu. \nZdaj imate priložnost poskusiti nekaj novega – štiridnevni program NuDanza Deepness\, ki bo pustil globoko sled ne le na vaše doživljanje plesa\, ampak tudi na vaše življenje! Prečudovita morska okolica in raznolika vegetarijanska hrana bosta celotno izkušnjo naredili popolno! V prostem času se boste lahko sprehajali ali vozili s kolesom po bližnjih poteh ter izkoristili ponudbo velnesa v bazenu\, savni ali na masaži. \nVes dopoldan je namenjen plesu\, popoldan je do 18. ure prost. Pred večerjo se okoli 60 minut spet pleše\, po večerji pa sledi ples\, ki traja … dolgo. \nProgram NuDanza Deepness daje izjemno globoke plesno-duhovne izkušnje\, ki jih poznajo le tisti\, ki so izkusili trenutke Nudanzine plesne ekstaze\, med katero se spontano pojavlja popolna povezanost duhovne empatije in ljubezni\, kar se sicer redko doživlja. Vsak Deepness je drugačen in zato poseben. \nBrez pomislekov se nam lahko spet pridružite\, saj vsakič hodimo po novih plesnih poteh do osvobajajočih in nepozabnih izkušenj. Tokrat se družimo v Podčetrtku v terme Olimia od 12. do 16. 02. 2025. \nSte mar pripravljeni stopiti iz okvirjev in se nam pridružiti na tokratni plesni avanturi? \nPričakujemo vas! \nVaš tim NuDanza \n  \n 
URL:https://nudanza.hr/sl/dogodek-sl/deepness-pocetrtek-slovenia/
LOCATION:Rogaška Slatina\, Podčetrtek\, Terme Olimia\, Terme Olimia\, Rogaška Slatina\, Podčetrtek\, Slovenia
CATEGORIES:Deepness,Delavnice
ATTACH;FMTTYPE=image/jpeg:https://nudanza.hr/wp-content/uploads/2018/12/43-1-novi-proporc.jpg
END:VEVENT
END:VCALENDAR